BEGIN:VCALENDAR
VERSION:2.0
PRODID:-//
CALSCALE:GREGORIAN
METHOD:PUBLISH
X-WR-CALNAME:
X-ORIGINAL-URL:https://www.ohi.at/kursblock/hg-lap-023-02/
X-WR-CALDESC:2019.06.17-2019.06.28<br>2. Teil Vorbereitung Lehrabschlussprüfung Hörgeräteakustiker/in<br>HG-LAP-023-02
BEGIN:VEVENT
DTSTART:20190617T080000
DTEND:20190628T170000
SUMMARY:2019.06.17-2019.06.28<br>2. Teil Vorbereitung Lehrabschlussprüfung Hörgeräteakustiker/in<br>HG-LAP-023-02
DESCRIPTION:
LOCATION:1120 Wien, Eichenstraße 38
END:VEVENT
END:VCALENDAR
