BEGIN:VCALENDAR
VERSION:2.0
PRODID:-//
CALSCALE:GREGORIAN
METHOD:PUBLISH
X-WR-CALNAME:
X-ORIGINAL-URL:https://www.ohi.at/kursblock/ao-mp-002-10/
X-WR-CALDESC:2021.03.08-2021.03.20<br>10. Teil Vorbereitung Meisterprüfung Augenoptiker/in<br>AO-MP-002-10
BEGIN:VEVENT
DTSTART:20210308T080000
DTEND:20210320T170000
SUMMARY:2021.03.08-2021.03.20<br>10. Teil Vorbereitung Meisterprüfung Augenoptiker/in<br>AO-MP-002-10
DESCRIPTION:
LOCATION:1120 Wien, Eichenstraße 38
END:VEVENT
END:VCALENDAR
