BEGIN:VCALENDAR
VERSION:2.0
PRODID:-//
CALSCALE:GREGORIAN
METHOD:PUBLISH
X-WR-CALNAME:
X-ORIGINAL-URL:https://www.ohi.at/kursblock/ao-mp-002-06/
X-WR-CALDESC:2020.01.20-2020.02.01<br>6. Teil Vorbereitung Meisterprüfung Augenoptiker/in<br>AO-MP-002-06
BEGIN:VEVENT
DTSTART:20200120T080000
DTEND:20200201T130000
SUMMARY:2020.01.20-2020.02.01<br>6. Teil Vorbereitung Meisterprüfung Augenoptiker/in<br>AO-MP-002-06
DESCRIPTION:
LOCATION:1120 Wien, Eichenstraße 38
END:VEVENT
END:VCALENDAR
