BEGIN:VCALENDAR
VERSION:2.0
PRODID:-//
CALSCALE:GREGORIAN
METHOD:PUBLISH
X-WR-CALNAME:
X-ORIGINAL-URL:https://www.ohi.at/kursblock/ao-mp-002-03/
X-WR-CALDESC:2019.07.01-2019.07.13<br>3. Teil Vorbereitung Meisterprüfung Augenoptiker/in<br>AO-MP-002-03
BEGIN:VEVENT
DTSTART:20190701T080000
DTEND:20190713T130000
SUMMARY:2019.07.01-2019.07.13<br>3. Teil Vorbereitung Meisterprüfung Augenoptiker/in<br>AO-MP-002-03
DESCRIPTION:
LOCATION:1120 Wien, Eichenstraße 38
END:VEVENT
END:VCALENDAR
